BEGIN:VCALENDAR
VERSION:2.0
PRODID:-//Unimentor Global Education PVT - ECPv6.15.20//NONSGML v1.0//EN
CALSCALE:GREGORIAN
METHOD:PUBLISH
X-WR-CALNAME:Unimentor Global Education PVT
X-ORIGINAL-URL:https://unimentoredu.com
X-WR-CALDESC:Events for Unimentor Global Education PVT
REFRESH-INTERVAL;VALUE=DURATION:PT1H
X-Robots-Tag:noindex
X-PUBLISHED-TTL:PT1H
BEGIN:VTIMEZONE
TZID:UTC
BEGIN:STANDARD
TZOFFSETFROM:+0000
TZOFFSETTO:+0000
TZNAME:UTC
DTSTART:20230101T000000
END:STANDARD
END:VTIMEZONE
BEGIN:VEVENT
DTSTART;TZID=UTC:20240706T080000
DTEND;TZID=UTC:20260911T170000
DTSTAMP:20260422T172005
CREATED:20230111T041119Z
LAST-MODIFIED:20250716T221020Z
UID:311-1720252800-1789146000@unimentoredu.com
SUMMARY:MBBS Abroad Webinar: Your Ultimate 2025 Guide to Studying Medicine Overseas
DESCRIPTION:🌍 Global MBBS Hotspots\nExplore and compare top international destinations such as the USA\, UK\, Canada\, Australia\, and Europe\, along with budget-friendly options including Georgia\, Russia\, Kazakhstan\, and the Philippines—all tailored to suit different academic and financial needs. \n💰 Affordable Medical Education\nLearn how to access high-quality MBBS programs in countries like Russia\, Georgia\, Kazakhstan\, and the Philippines—without burning a hole in your pocket. \n🗣️ No Language Barriers\nDiscover universities that offer MBBS programs fully in English\, ensuring a smooth and effective learning experience for Indian students. \n🇪🇺 EU vs Non-EU Degrees\nGet clarity on the differences between EU and Non-EU medical degrees\, how they affect global licensing\, and what they mean for your career opportunities after graduation. \n📜 Stay Updated with NMC Guidelines 2024\nFind out how to choose universities that are NMC-compliant\, ensuring your degree remains valid and recognized in India under the latest 2024 norms. \n📈 Boost Your FMGE Success\nUnimentor will guide you in selecting medical universities with a proven track record of high FMGE (MCI screening test) pass rates\, increasing your chances of practicing in India. \n⚠️ Steer Clear of Fake Colleges\nLearn how to spot red flags and avoid unaccredited or deceptive institutions. Unimentor helps you verify university credibility before applying. \n💸 Smart Financing Solutions\nDiscover scholarships\, education loan options\, and budget planning tips to make your MBBS journey affordable—perfect for both students and concerned parents. \n🔴 Live Q&A with Krishaanand\nEngage directly with Krishaanand\, our experienced Unimentor expert\, alongside alumni and current students. Get honest insights and answers to all your MBBS abroad queries—live during the session!
URL:https://unimentoredu.com/event/festival-of-architecture-and-interior/
LOCATION:Kottayam\, UniMentor Global Education Private Limited\, Pulikkal Trade Centre\, Near Pittappillil Agencies Nagambadom\, MC Road Nagambadom Kottayam Pin 686006\, Kottayam
CATEGORIES:Webinars
ATTACH;FMTTYPE=image/jpeg:https://unimentoredu.com/wp-content/uploads/2025/07/male-working-as-paediatrician-scaled.jpg
END:VEVENT
END:VCALENDAR